BEGIN:VCALENDAR
VERSION:2.0
PRODID:-//Summer House Retreat - ECPv5.11.0//NONSGML v1.0//EN
CALSCALE:GREGORIAN
METHOD:PUBLISH
X-WR-CALNAME:Summer House Retreat
X-ORIGINAL-URL:https://www.summerhouseretreat.com.au
X-WR-CALDESC:Events for Summer House Retreat
BEGIN:VTIMEZONE
TZID:Australia/Melbourne
BEGIN:STANDARD
TZOFFSETFROM:+1100
TZOFFSETTO:+1000
TZNAME:AEST
DTSTART:20240406T160000
END:STANDARD
BEGIN:DAYLIGHT
TZOFFSETFROM:+1000
TZOFFSETTO:+1100
TZNAME:AEDT
DTSTART:20241005T160000
END:DAYLIGHT
END:VTIMEZONE
BEGIN:VEVENT
DTSTART;TZID=Australia/Melbourne:20240209T120000
DTEND;TZID=Australia/Melbourne:20240211T120000
DTSTAMP:20260426T014127
CREATED:20230315T232238Z
LAST-MODIFIED:20230626T030742Z
UID:1698484-1707480000-1707652800@www.summerhouseretreat.com.au
SUMMARY:Nourish\, Connect\, Thrive\, Lifestyle Retreat with Anna Baker & Kelly Hamilton
DESCRIPTION:𝗡𝗼𝘂𝗿𝗶𝘀𝗵\, 𝗖𝗼𝗻𝗻𝗲𝗰𝘁\, 𝗧𝗵𝗿𝗶𝘃𝗲 – 𝗟𝗶𝗳𝗲𝘀𝘁𝘆𝗹𝗲 𝗥𝗲𝘁𝗿𝗲𝗮𝘁 ⁣\n9th – 11th February 2024\n⁣\n𝗪𝗶𝘁𝗵 𝗔𝗻𝗻𝗮 𝗕𝗮𝗸𝗲𝗿 𝗮𝗻𝗱 𝗞𝗲𝗹𝗹𝘆 𝗛𝗮𝗺𝗶𝗹𝘁𝗼𝗻 ⁣\n⁣\nKelly and Anna are two passionate\, accomplished Life and Health Coaches who are experienced in holding space for others through 1 on 1 coaching\, personal mentoring\, group coaching and through the facilitation of workshops and sacred circles. \nBetween them\, they have over 20 years of experience in the personal development and health & wellness realms. Their knowledge and expertise are in the areas of Neuro Linguistic Programming\, Timeline Therapy\, Advanced Nutrition & Health Coaching\, Leadership Coaching\, Intuitive Energy Therapy\, Hypnosis\, Reiki\, Kundalini\, the Chakra System\, Meditation\, Mindfulness\, HeartMath Therapy for Stress\, Anxiety & Self-Regulation\, Yoga\, Sound Healing\, Oracle Card Readings\, Aromatherapy\, Manifestation and many other modalities in the art of self-discovery and healing. \nThey are Mother’s\, wives\, business owners and former employees of the corporate world. Through their own journeys of self-inquiry and unlearning\, a passion for living life on their own terms was invoked. \nThey now dedicate their lives to shining and sharing their light and teaching the tools that have enabled them to transform their lives into the ones they live today. \nAbove all\, Kelly & Anna are experienced at using the wisdom within. They honour that inner wisdom by living their lives according to their intuitive guidance. They are passionate about living life courageously from the heart and enjoy spreading the joy of this practice and teaching others how to do so too!! \nINVEST in YOURSELF this SUMMER! \nJoin the creators of the Nourish\, Connect\, Thrive Community Women’s Circle; Kelly Hamilton and Anna Baker for a luxurious\, immersive\, rejuvenating retreat at the divine Summer House Retreat venue in Torquay\, Victoria from February 17th – 19th 2023. \nSpaces are limited to 8 beautiful souls! \nIf you’re feeling ready to show yourself self-love on your journey towards self-discovery; we are ready to hold space for you on this transformative weekend away with like minded women. \nSummer is a time of infectious excitement! The energy around it is fun\, transformative and electric. It’s the season where the sun is at the height of its power\, and SO ARE YOU! It is time to embrace this transformative energy and use it to create a purposeful weekend that will stimulate your sense of balance and connection with yourself\, your environment and to those around you.\nIn summer\, our spirits are super energised from the fire of the sun\, we feel inspired and invigorated. We have the inner fire and the outward focused energy to do BIG things. When your heart and mind are both focused on the same goal\, GREAT things are possible! \nNo matter where you are in this moment – more ease\, more awareness\, more freedom and more power is available to you now as you start integrating the tools of transformation into your daily life!\nA retreat is a journey that gives back to you long after you leave the venue.\nNourish\, Connect\, Thrive Lifestyle retreats are opportunities to become curious about yourself and to learn more about the real you.\nThe modalities used offer an opportunity to spark transformation in the way we think\, feel and live.\nJoin us\, take a leap and see what happens when you still the mind\, free the body and inquire within. \nWhat’s included:\n*Intimate group of 8 only – get in quick to secure your spot!\n*Twin share accommodation at the beautiful Summerhouse Retreat in Torquay\, Victoria.\n*All meals supplied – fresh wholesome food to fuel your body and mind\n*Body movement – dance\, yoga\, walking\, swimming\n*Energy healing practices\n*Massage\n*Ocean walks to nourish your soul\n*Down time by the pool\n*Exploration of self through empowerment exercises (workbook)\n*Coaching sessions facilitated by experienced coaches\, Anna and Kelly\n*Share stories with like minded women to connect and grow together\n*Play and laughter\n*Meditation and mindfulness\n*Sound healing\n*Learn daily rituals/practices to take home with you\n*Special gift from retreat hosts Anna and Kelly\n*And a whole lot more………. \nInvestment: PRICE ON APPLICATION \nNon refundable $300 Deposit required at time of booking to secure your spot. \nPayment plans available.
URL:https://www.summerhouseretreat.com.au/retreat/nourish-connect-thrive-lifestyle-retreat-with-anna-baker-kelly-hamilton-2/
LOCATION:summer House Retreat
ATTACH;FMTTYPE=image/jpeg:https://www.summerhouseretreat.com.au/wp-content/uploads/2022/09/kelly-222.jpg
END:VEVENT
END:VCALENDAR