BEGIN:VCALENDAR
VERSION:2.0
PRODID:-//Summer House Retreat - ECPv5.11.0//NONSGML v1.0//EN
CALSCALE:GREGORIAN
METHOD:PUBLISH
X-WR-CALNAME:Summer House Retreat
X-ORIGINAL-URL:https://www.summerhouseretreat.com.au
X-WR-CALDESC:Events for Summer House Retreat
BEGIN:VTIMEZONE
TZID:Australia/Melbourne
BEGIN:STANDARD
TZOFFSETFROM:+1100
TZOFFSETTO:+1000
TZNAME:AEST
DTSTART:20250405T160000
END:STANDARD
BEGIN:DAYLIGHT
TZOFFSETFROM:+1000
TZOFFSETTO:+1100
TZNAME:AEDT
DTSTART:20251004T160000
END:DAYLIGHT
BEGIN:STANDARD
TZOFFSETFROM:+1100
TZOFFSETTO:+1000
TZNAME:AEST
DTSTART:20260404T160000
END:STANDARD
BEGIN:DAYLIGHT
TZOFFSETFROM:+1000
TZOFFSETTO:+1100
TZNAME:AEDT
DTSTART:20261003T160000
END:DAYLIGHT
END:VTIMEZONE
BEGIN:VEVENT
DTSTART;TZID=Australia/Melbourne:20260327T150000
DTEND;TZID=Australia/Melbourne:20260329T120000
DTSTAMP:20260422T024901
CREATED:20250817T024418Z
LAST-MODIFIED:20260126T042738Z
UID:1699661-1774623600-1774785600@www.summerhouseretreat.com.au
SUMMARY:THE WEEKEND FLIP RETREAT  - with Denise Mokadsi - Feel Good Coach
DESCRIPTION:THE WEEKEND FLIP RETREAT – with Denise Mokadsi – Feel Good Coach\nMarch 27th-29th 2026\nYour Retreat Details\nForget your usual weekend duties\, it’s time to focus on YOU and write a different story!  \n🌟 Need time out to flip the switch on your weekend responsibilities and focus on YOU for a change? \nWhat if you could step into the person you would love to be – just you without the judgement\, expectations and responsibilities? \n– even if it was just for the weekend! \nThe Summer House at Jan Juc is a beautiful\, homely retreat house and yoga studio\, 1.5 hr drive from Melbourne⁣ \nYour 2 nights’ accommodation\, all meals and my “𝗕𝗘𝗔𝗨𝗧𝗜𝗙𝗨𝗟𝗟𝗬 𝗬𝗢𝗨” 𝘀𝗲𝘀𝘀𝗶𝗼𝗻𝘀 plus a copy of my new book The Belief Shift are all included. ⁣\n⁣\nThe program is flexible to cater to your own needs.⁣\n⁣\nNutrition\, Mindfulness\, Yoga\, Infrared Sauna\, Cold Plunge\, Personalised Health Sessions\, Belief Reprogramming\, Beach Walks and more! \nRETREAT DETAILS \nThis for you if: \n\nYou need a weekend to forget all your usual responsibilities that pull you away from yourself.\nYou like to connect with like-minded people who are also wanting to focus on themselves for a change.\nYou wish to deepen your self-care practices for deeper self-connection.\nYou love nature walks and being by the ocean.\nYou love delighting your taste buds and senses in deliciously nourishing meals.\nYou want to experience ultimate nervous system relaxation through active relaxation techniques and breath work.\nYou want to connect and meet a new group of friends and make lasting memories.\n\n WHAT’S INCLUDED? \n\nAll meals\, drinks and snacks\nA signed copy of The Belief Shift\nLinen and towels\nInfrared sauna\nMagnesium pool cold plunge\nCeremonial cacao\nAspar body products\nZea essential oils\nMorning guided beach walks\nYoga and stretch sessions\nMeditation and journalling sessions\nBuddha gardens to relax in\nWomen’s Health and Wellness information sessions\nPowerful personal development workshop sessions and meaningful discussions\nYour personal mind and body reset\n\nACCOMMODATION OPTIONS AND PRICING \nAll rooms are elegantly furnished to provide the most luxurious space for your retreat. Feel the sacred energy of peace and tranquility from your arrival and settle into this energy throughout your two-night stay. \nThere are 3 twin share bedrooms with a shared bathroom. ($1295 pp) \nThere is also 1 master bedroom with private ensuite. ($1345 pp) \nAll beds are king singles. \nJoin with a new beautiful soul as your roommate or come along with a friend to retreat together. \nStart: Friday 27th March 3pm \nFinish: Sunday 29th March 12pm \nCost: depends on room selection \n(Early bird special save $100 for bookings made prior to January 31st 2026) \nLast RSVP 13th March 2026 \nHave a question? Let’s chat. \nSpots limited. Grab yours today! \ncontact Denise \nhttps://www.denisemokadsi.com.au/the-weekend-flip-retreat \n  \n\n\n\n\n\n\n\n  \nLAST RSVP: 20TH MARCH 2026 WWW.DENISEMOKADSI.COM.AU
URL:https://www.summerhouseretreat.com.au/retreat/new-retreat-coming-with-denise-mokadsi/
LOCATION:summer House Retreat
ATTACH;FMTTYPE=image/jpeg:https://www.summerhouseretreat.com.au/wp-content/uploads/2025/06/Untitled-design-2025-07-08T083500.198-copy.jpg
ORGANIZER;CN="Denise%20Mokadsi":MAILTO:hello@denisemokadsi.com.au
END:VEVENT
BEGIN:VEVENT
DTSTART;TZID=Australia/Melbourne:20250815T113000
DTEND;TZID=Australia/Melbourne:20250817T123000
DTSTAMP:20260422T024901
CREATED:20250630T042715Z
LAST-MODIFIED:20250708T005958Z
UID:1699557-1755257400-1755433800@www.summerhouseretreat.com.au
SUMMARY:QUIET PAUSE WINTER RETREAT - Denise Mokadsi - Feel Good Coach
DESCRIPTION:QUIET PAUSE WINTER RETREAT – Denise Mokadsi – Feel Good Coach\n15th – 17th AUGUST 2025\n  \nabout this retreat \nNeed time out\, more calm\, away from the city and technology?  \nThe Summer House is a beautiful homely retreat house and yoga studio\, 1.5 hr drive from Melbourne in beautiful Jan Juc.  Your 2 nights accommodation\, meals and wellbeing sessions are all included.  \nThe program is flexible to cater to your own needs. \n\nWomens Health and Wellness workshops\nNutrition\, \nMindfulness\, \nYoga\nInfrared Sauna\nand many other options are available\n\nAbout Denise Mokadsi Feel Good Coach \nI’m the Head FeelGood Health Coach with over 25 years’ experience working in the health industry.   This has covered many roles as an intensive care registered nurse\, personalised health coach\, personal trainer and genetics practitioner with people just like you who want to live life feeling vibrant and energetic! \nI’m passionate about helping you discover long-term health and vitality so you can live the life you desire\, full of energy and enjoyment.\nI wanted a holistic approach to feeling good that got right to the bottom of why things were “feeling off”.. \nBut as time went on\, the messier the solution was becoming. Important pieces of the wellness puzzle were getting missed and I was becoming more frustrated. \nI realized if I wanted to feel energized\, vibrant\, healthy and happy (especially as I continued to get older) I needed a new approach. \n  \nCOME JOIN ME ON RETREAT  \nBooking details \n$1295 twin share (book with a buddy and save $95 each) \nhttps://www.denisemokadsi.com.au/offers/SMhuFCCh/checkout \n  \n 
URL:https://www.summerhouseretreat.com.au/retreat/new-retreat-coming-soon-4/
LOCATION:summer House Retreat
ATTACH;FMTTYPE=image/jpeg:https://www.summerhouseretreat.com.au/wp-content/uploads/2025/06/Untitled-design-2025-07-08T083500.198-copy.jpg
ORGANIZER;CN="Denise%20Mokadsi":MAILTO:hello@denisemokadsi.com.au
END:VEVENT
END:VCALENDAR