BEGIN:VCALENDAR
VERSION:2.0
PRODID:-//Summer House Retreat - ECPv5.11.0//NONSGML v1.0//EN
CALSCALE:GREGORIAN
METHOD:PUBLISH
X-WR-CALNAME:Summer House Retreat
X-ORIGINAL-URL:https://www.summerhouseretreat.com.au
X-WR-CALDESC:Events for Summer House Retreat
BEGIN:VTIMEZONE
TZID:Australia/Melbourne
BEGIN:STANDARD
TZOFFSETFROM:+1100
TZOFFSETTO:+1000
TZNAME:AEST
DTSTART:20260404T160000
END:STANDARD
BEGIN:DAYLIGHT
TZOFFSETFROM:+1000
TZOFFSETTO:+1100
TZNAME:AEDT
DTSTART:20261003T160000
END:DAYLIGHT
END:VTIMEZONE
BEGIN:VEVENT
DTSTART;TZID=Australia/Melbourne:20260227T100000
DTEND;TZID=Australia/Melbourne:20260301T170000
DTSTAMP:20260422T044011
CREATED:20250728T051455Z
LAST-MODIFIED:20260104T221556Z
UID:1699637-1772186400-1772384400@www.summerhouseretreat.com.au
SUMMARY:WELLFED RETREAT - with Georgia and Simon from Wellfed Retreats (NOW SOLD  OUT)
DESCRIPTION:WELLFED RETREAT – with Georgia and Simon from Wellfed Retreats\n27TH FEBRUARY – 1ST MARCH 2026 \nABOUT OUR RETREAT \nImmerse yourself in deliciously mindful retreats where gastronomy meets yoga. \nWelcome to WellFed\, where we prioritise slow food\, slow movement\, and good company.  \nTHINK :- \n\ndaily cooking masterclasses with an in-house Masterchef\,\ndaily flow yoga\,\nyin\, and meditation practice\,\ncacao ceremony\,\na values and purpose masterclass with renowned leadership coach Therese Toohey\,\nand plenty of time to hang by the pool\,\nhit the sauna\,\nwalk the beach\,\nand curate your perfect summer getaway.\n\n  \nABOUT YOUR HOST SIMON & GEORGIA \nFollowing his success on Seasons 11 & 12 of Masterchef Australia\, and with his very own cooking show on Channel 10\, Simon is on a mission to make plant-based eating the best it can be. \nYou’ll learn how to make the most of the humble veg during interactive cooking masterclasses where sustainable farm to table and zero-waste practices are at the forefront. \nGeorgia Radley is a beloved local yoga and meditation teacher and teacher trainer. In her classes you can expect to be guided to inhabit postures that feel most appropriate and nourishing for your unique body\, with plenty of options for those new to yoga. She feels honoured to share these ancient teachings in an accessible way – no “beginner” or “advanced”\, just an invitation to show up in all your humanness. \nBOOKING and ACCOMMODATION INFORMATION  \nSummer House Retreat  \n\nMaster bedroom: 1499pp or 2399 single\,\nShared Bathroom bedrooms: 1359pp or 2159 single.\n\n  \nOff Site Luxury Barn  \n“Stay with us”  – just 2 minutes around the corner in The OFF SITE Luxury Barn – your very own large Queen bedroom shared kitchenette\, lounge and bathroom  \n\nBarn King bedroom: 1259pp or 1959 single.\n\n  \nBOOKINGS WILL BE OPEN SOON –  IN THE MEANTIME JOIN THEIR WAIT LIST – info@wellfedretreats.com
URL:https://www.summerhouseretreat.com.au/retreat/wellfed-retreat-with-georgia-and-simon-from-wellfed-retreats/
LOCATION:summer House Retreat
ATTACH;FMTTYPE=image/jpeg:https://www.summerhouseretreat.com.au/wp-content/uploads/2025/07/new-moon-🌑-13-copy.jpg
ORGANIZER;CN="Georgia%20Radley":MAILTO:info@wellfedretreats.com
END:VEVENT
END:VCALENDAR