BEGIN:VCALENDAR
VERSION:2.0
PRODID:-//Summer House Retreat - ECPv5.11.0//NONSGML v1.0//EN
CALSCALE:GREGORIAN
METHOD:PUBLISH
X-WR-CALNAME:Summer House Retreat
X-ORIGINAL-URL:https://www.summerhouseretreat.com.au
X-WR-CALDESC:Events for Summer House Retreat
BEGIN:VTIMEZONE
TZID:Australia/Melbourne
BEGIN:STANDARD
TZOFFSETFROM:+1100
TZOFFSETTO:+1000
TZNAME:AEST
DTSTART:20240406T160000
END:STANDARD
BEGIN:DAYLIGHT
TZOFFSETFROM:+1000
TZOFFSETTO:+1100
TZNAME:AEDT
DTSTART:20241005T160000
END:DAYLIGHT
END:VTIMEZONE
BEGIN:VEVENT
DTSTART;TZID=Australia/Melbourne:20240726T120000
DTEND;TZID=Australia/Melbourne:20240728T120000
DTSTAMP:20260421T190835
CREATED:20240407T052409Z
LAST-MODIFIED:20240408T000210Z
UID:1698970-1721995200-1722168000@www.summerhouseretreat.com.au
SUMMARY:WINTER BEACH RETREAT - with Giovanna Phillips and Samantha Sepulveda
DESCRIPTION:𝗖𝗼𝗺𝗶𝗻𝗴 𝘁𝗼 𝗦𝘂𝗺𝗺𝗲𝗿 𝗛𝗼𝘂𝘀𝗲 𝗥𝗲𝘁𝗿𝗲𝗮𝘁 𝘁𝗵𝗶𝘀 𝗝𝘂𝗹𝘆 ⁣\n⁣\n𝗪𝗶𝗻𝘁𝗲𝗿 𝗕𝗲𝗮𝗰𝗵 𝗥𝗲𝘁𝗿𝗲𝗮𝘁 ⁣\nwith Giovanna Phillips  (soundspa) and Samantha Sepulveda (lotusheart)\n⁣\n𝟮𝟲𝘁𝗵 – 𝟮𝟴𝘁𝗵 𝗝𝗨𝗟𝗬 𝟮𝟬𝟮𝟰 ⁣\n⁣\n𝗔𝗯𝗼𝘂𝘁 𝘁𝗵𝗶𝘀 𝗥𝗲𝘁𝗿𝗲𝗮𝘁⁣\n⁣\nWhen we say goodbye to Autumn and the beautiful orange\, red and yellow colours\, we find ourselves shifting into the coldest\, darkest yet cosiest season of the year – Winter!⁣\n⁣\n𝗔 𝘀𝗲𝗮𝘀𝗼𝗻 𝘄𝗵𝗲𝗿𝗲 𝘄𝗲 𝗴𝗶𝘃𝗲 𝗼𝘂𝗿𝘀𝗲𝗹𝘃𝗲𝘀 𝘁𝗶𝗺𝗲 𝘁𝗼 𝗷𝘂𝘀𝘁 ‘𝗕𝗲.⁣\n⁣\nReading\, yin\, meditation\, painting\, walks in nature\, sound healing\, fire gazing\, organic warming foods\, meditation\, engaging in activities that relaxes you and shifts you into the ‘flow’ state – helps rejuvenate the mind and enhances creativity. ⁣\n⁣\nWhen we are in this ‘flow’ state\, we allow our minds to daydream and wonder\, the perfect time to come up with solutions to nagging problems.⁣\n⁣\n𝗟𝗶𝘃𝗶𝗻𝗴 𝗹𝗶𝗳𝗲 𝗮𝘁 𝗮 𝘀𝗹𝗼𝘄𝗲𝗿 𝗽𝗮𝗰𝗲 𝗺𝗮𝗸𝗶𝗻𝗴 𝘁𝗶𝗺𝗲 𝘁𝗼 𝗴𝗼 𝘄𝗶𝘁𝗵𝗶𝗻. ⁣\n⁣\n𝗔𝗹𝗹𝗼𝘄𝗶𝗻𝗴 𝗥𝗲𝘀𝘁! ⁣\n⁣\nMake these practices part of your life and change with the seasons. It will make a huge impact on your overall well-being.⁣\n⁣\n𝗔𝗹𝗹𝗼𝘄 𝘂𝘀 𝘁𝗼 𝗵𝗲𝗹𝗽 𝘆𝗼𝘂 𝗳𝗶𝗻𝗱 𝘆𝗼𝘂𝗿 ‘𝗳𝗹𝗼𝘄’ 𝘀𝘁𝗮𝘁𝗲.⁣\n⁣\nCome join Giovanna and Samantha for their winter retreat at the beach in Torquay in delicious surroundings and comfort\, time to delve deep or simply rest with like minded others.⁣\n⁣\nThis is an intimate retreat only for 8 special guests – where you will look forward to sharing the love of yoga\, art\, food and sounds. \nBooking details – http://www.soundspa.net.au/retreats \nBook your Room Peace\, Serenity Bliss – \nDeluxe twin share rooms $1111.00 per person \nSupreme Room with ensuite twin share  $1222.00 per person \n  \ncontact \nSamantha – lotusheartyogaa@gmail.com \nGiovanna – giovannasparkles74@gmail.com \n  \n  \n 
URL:https://www.summerhouseretreat.com.au/retreat/winter-beach-retreat-with-giovanna-and-samantha/
LOCATION:summer House Retreat
ORGANIZER;CN="Samantha%20Sepulveda":MAILTO:lotusheartyogaa@gmail.com
END:VEVENT
END:VCALENDAR