BEGIN:VCALENDAR
VERSION:2.0
PRODID:-//Summer House Retreat - ECPv5.11.0//NONSGML v1.0//EN
CALSCALE:GREGORIAN
METHOD:PUBLISH
X-WR-CALNAME:Summer House Retreat
X-ORIGINAL-URL:https://www.summerhouseretreat.com.au
X-WR-CALDESC:Events for Summer House Retreat
BEGIN:VTIMEZONE
TZID:Australia/Melbourne
BEGIN:STANDARD
TZOFFSETFROM:+1100
TZOFFSETTO:+1000
TZNAME:AEST
DTSTART:20250405T160000
END:STANDARD
BEGIN:DAYLIGHT
TZOFFSETFROM:+1000
TZOFFSETTO:+1100
TZNAME:AEDT
DTSTART:20251004T160000
END:DAYLIGHT
BEGIN:STANDARD
TZOFFSETFROM:+1100
TZOFFSETTO:+1000
TZNAME:AEST
DTSTART:20260404T160000
END:STANDARD
BEGIN:DAYLIGHT
TZOFFSETFROM:+1000
TZOFFSETTO:+1100
TZNAME:AEDT
DTSTART:20261003T160000
END:DAYLIGHT
END:VTIMEZONE
BEGIN:VEVENT
DTSTART;TZID=Australia/Melbourne:20260410T120000
DTEND;TZID=Australia/Melbourne:20260412T130000
DTSTAMP:20260421T190807
CREATED:20250610T035613Z
LAST-MODIFIED:20260220T073226Z
UID:1699522-1775822400-1775998800@www.summerhouseretreat.com.au
SUMMARY:SOUL ALIGNMENT & ACTIVATION RETREAT  -  with Melinda Warnecke – Master Healer and Business & Energetics Mentor (2 spots left)
DESCRIPTION:“SOUL ALIGNMENT & ACTIVATION RETREAT”\n– with Melinda Warnecke – Master Healer and Business & Energetics Mentor\n  \n10th – 12th APRIL 2026\n  \nAbout this Retreat\nTHE WORK WE DO HERE IS ACTIVATION — NOT ANALYSIS\nIn my world\, transformation doesn’t come from digging endlessly into what’s wrong. \nIt comes from activating the truth of who you are now — and letting your system reorganise around that frequency. \nWhen that happens:  \n• Old patterns lose their grip  \n• Decisions become simpler  \n• Energy returns  \n• Momentum feels natural again  \nThis is an inside-out shift. And it requires the right environment. \nThere comes a point where effort stops working.\nNOT BECAUSE YOU’RE DOING ANYTHING WRONG — BUT BECAUSE YOU’VE OUTGROWN THE LEVEL YOU’RE OPERATING FROM. \nThis retreat exists for that moment.\nNot to fix you.  \nNot to push you.  \nBut to recalibrate you at the level where change actually hold \nThe Soul Alignment & Activation Retreat This special three day experience is designed for female entrepreneurs and leaders to reset you in all the ways required to deeply activate your next level of consciousness. \nFrom this deep reset\, we’ll then focus on realigning you at the levels you’ve been wanting in life and business. \nFrom here\, you’ll be able to start seeing things at new levels. These three days are a blend of unwinding & awakening\, deepening with energy activations alongside strategic planning\, leadership training & deep dive coaching. \nThis is for you if…\nYou’re not new to inner work. You’re not looking for motivation or another strategy. \nYou are\, however: \n\nLooping at a level you’ve already mastered\nFeeling a subtle drain on your life force or clarity\nAware that your nervous system\, energy\, and leadership identity need to realign\nReady to activate what’s next — without burning everything down\n\nYou want: \n\nMore vitality in your body\nCleaner clarity in your decisions\nA return to trust in yourself\nGrowth that feels aligned\, not effortful\n\nWe Will Be Sharing Space\, Meals\, And Conversations — As Women Who Gather\, Heal\, And Remember Together. Accommodation Is Twin-Share Unless Otherwise Arranged. If You’re Attending With A Friend Or Would Like To Explore Private Room Options\, Please Let Us Know Early. \nAbout Melinda \nMelinda is a multi-6-figure online spiritual and business mentor International speaker\, Master Healer and Business Mentor\, Melinda is known for her deep alignment between the spiritual and strategic aspects of her work. Melinda’s experience and learnings have paved the way for her to facilitate deep healing & transformational change within her clients. \nShe is a Master Healer with her own unique healing modality\, a spiritual breakthrough which reconnects the womb and heart for portal activation – a deeply potent experience! Melinda is a certified Energy Codes Facilitator and teaches unique techniques to activate untapped energy and neurocircuitry in the body and become one’s true\, essential self. \nBookings are now open – \nRetreat Pricing – $1297.00 \nMembers $999 \nFIND OUT MORE  \nhttps://melindawarnecke.com.au/soul-alignment-activation-retreat?fbclid=PAVERFWAPmpzFleHRuA2FlbQIxMABzcnRjBmFwcF9pZA8xMjQwMjQ1NzQyODc0MTQAAaeMEvQBy0CI1tVAcTWLQl4LeF125eWisBNnmxQPPSZkoOsya4M0rJ9oEr3uRQ_aem_zPx8ERF3O04wMP2ajNHMJA \n  \nCONTACT  –  melinda.warnecke@gmail.com \n  \n 
URL:https://www.summerhouseretreat.com.au/retreat/new-retreat-coming-melinda-warnecke/
LOCATION:summer House Retreat
ATTACH;FMTTYPE=image/jpeg:https://www.summerhouseretreat.com.au/wp-content/uploads/2025/04/MELINDA.jpeg
ORGANIZER;CN="Melinda%20Warnecke":MAILTO:melinda.warnecke@gmail.com
END:VEVENT
BEGIN:VEVENT
DTSTART;TZID=Australia/Melbourne:20250606T120000
DTEND;TZID=Australia/Melbourne:20250608T123000
DTSTAMP:20260421T190807
CREATED:20250406T073148Z
LAST-MODIFIED:20250427T095343Z
UID:1699423-1749211200-1749385800@www.summerhouseretreat.com.au
SUMMARY:"THE ACTIVATION RETREAT"  with Melinda Warnecke -  Master Healer and Business & Energetics Mentor
DESCRIPTION:“THE ACTIVATION RETREAT” with Melinda Warnecke – Master Healer and Business & Energetics Mentor\n6TH – 8TH JUNE 2025\n  \nAbout this Retreat \n  \nThe Activation Retreat This special three day experience is designed for female entrepreneurs and leaders to reset you in all the ways required to deeply activate your next level of consciousness. \nFrom this deep reset\, we’ll then focus on realigning you at the levels you’ve been wanting in life and business. \nThe Activation Retreat is held in a beautiful lush setting in the Great Ocean Road’s\, with all your needs fully taken care of\, you’ll receive the deep reset that your nervous system needs. \nFrom here\, you’ll be able to start seeing things at new levels. These three days are a blend of unwinding & awakening\, deepening with energy activations alongside strategic planning\, leadership training & deep dive coaching. \nWhile there’s as much unwinding and nervous system reset as you need\, we’ll also be facilitating the shifts that you’re here for through group leadership sessions and lots of one on one facilitated conversations. \nWhether that’s deep dive coaching\, strategic planning or ‘pitching and catching’ with the breakthrough insight you had while you were bilateral in the bush or relaxing in the gardens – we’ll be paying attention to what you need and coming in at whatever level that is. \n\n\n\n\n\n\n\n\n\n\n\n\nAbout Melinda  \nMelinda is a multi-6-figure online spiritual and business mentor International speaker\, Master Healer and Business Mentor\, Melinda is known for her deep alignment between the spiritual and strategic aspects of her work.  Melinda’s experience and learnings have paved the way for her to facilitate deep healing & transformational change within her clients. \nShe is a Master Healer with her own unique healing modality\, a spiritual breakthrough which reconnects the womb and heart for portal activation – a deeply potent experience! Melinda is a certified Energy Codes Facilitator and teaches unique techniques to activate untapped energy and neurocircuitry in the body and become one’s true\, essential self. She is the founder and creator of the Saguein Portal Activation and programs like The Infinite Coach and ILLUMINATION\, a multi-level body of work on Business and Spiritual Development. \nShe has served on not for profit boards\, providing guidance to marketing and fundraising teams. Melinda is a Master NLP Practitioner\, Master Healer and Business & Energetics Mentor for women. \nMelinda naturally integrates high-level business tactics with a strong focus on energetics and personal transformation\, which means she has a unique ability to bridge the gap between practicality and intuition. Through her courses\, training\, retreats and presentations she illuminates the relationships of quantum thoughts\, business acumen and energy medicine; to help heal the planet\, one life at a time. \nGiven her experience working alongside world-renowned professors\, great scientists\, philanthropists and sector leaders\, Melinda’s knowledge and experience is near unmatched \nRetreat Costs :- \n\n\nTwin Share room – $2500\nSingle King room – $3500\n\n\n\nBooking information :- \nContact Melinda – https://liminalmindsetcoaching.com.au/retreat-information-june-2025
URL:https://www.summerhouseretreat.com.au/retreat/new-retreat-coming-soon-6th-8th-june-2025/
LOCATION:summer House Retreat
ATTACH;FMTTYPE=image/jpeg:https://www.summerhouseretreat.com.au/wp-content/uploads/2025/04/MELINDA.jpeg
ORGANIZER;CN="Melinda%20Warnecke":MAILTO:melinda.warnecke@gmail.com
END:VEVENT
END:VCALENDAR