BEGIN:VCALENDAR
VERSION:2.0
PRODID:-//Summer House Retreat - ECPv5.11.0//NONSGML v1.0//EN
CALSCALE:GREGORIAN
METHOD:PUBLISH
X-WR-CALNAME:Summer House Retreat
X-ORIGINAL-URL:https://www.summerhouseretreat.com.au
X-WR-CALDESC:Events for Summer House Retreat
BEGIN:VTIMEZONE
TZID:Australia/Melbourne
BEGIN:STANDARD
TZOFFSETFROM:+1100
TZOFFSETTO:+1000
TZNAME:AEST
DTSTART:20260404T160000
END:STANDARD
BEGIN:DAYLIGHT
TZOFFSETFROM:+1000
TZOFFSETTO:+1100
TZNAME:AEDT
DTSTART:20261003T160000
END:DAYLIGHT
END:VTIMEZONE
BEGIN:VEVENT
DTSTART;TZID=Australia/Melbourne:20260220T093000
DTEND;TZID=Australia/Melbourne:20260222T130000
DTSTAMP:20260422T013334
CREATED:20250711T070818Z
LAST-MODIFIED:20260104T221908Z
UID:1699608-1771579800-1771765200@www.summerhouseretreat.com.au
SUMMARY:THE MOTHER AND THE MAIDEN RETREAT - With Carla Jenkins "Im a Soul Queen" (ONE SPOT AVAILALBE)
DESCRIPTION:THE MOTHER AND THE MAIDEN RETREAT\n20th February – 22nd February 2026\n  \nAbout this retreat \n  \nThis is a sacred container to explore the sacred bond between mother and daughter through both individual and shared journeys. \nMothers will be guided into the deeper wisdom of the Mother archetype; learning to balance care for others with soulful self-devotion\, while reconnecting with the desires of their inner Maiden. \nDaughters will step into their own becoming\, gently initiated into the sacred phase of Maidenhood through creative expression\, emotional reflection\, and a powerful Rite of Passage Ceremony. \nTogether\, you’ll learn to communicate with clarity\, compassion\, and presence. \nYou’ll explore how to honour each other’s boundaries\, understand emotional needs\, and meet one another not through roles or expectations\, but as whole beings\, curious\, evolving\, and worthy of being seen. \nThis is a journey of remembering: how to speak with love\, listen with empathy\, and walk forward side by side; not just as mother and daughter\, but as soul mirrors. \nAbout Carla Jenkins – I’m a Soul Queen \nI’m Carla: an empowering guide for emotionally exhausted women who feel lost and disconnected. \nAs a Reiki Master\, Light Language Sound Therapist\, and Self-Expression Coach\, my mission is to guide women in rediscovering their real\, raw\, and wild selves by embracing their most authentic expression. \nI believe in the transformative power of embracing our shadow selves. \nThose parts we’ve been taught to hide or suppress. \nThrough unapologetic self-expression\, I guide women to reclaim their truth\, unmask their vulnerabilities\, and transform perceived flaws into their greatest sources of strength. \nMy work is not about achieving some idealised version of self\, but about honouring the messy\, wild\, and organic parts of us that make us real and human. \nWith a deep understanding of the emotional struggles that come with disconnection and low self-worth\, having walked this journey back home to myself after 35 years of feeling unheard\, misunderstood\, and constantly seeking validation through people-pleasing and pretending to be someone who I believed others wanted me to be. \nMy mission is to guide you on a transformative journey of self-discovery\, helping you reconnect with your raw and empowered self. \nThis is an intimate retreat limited to 8 persons or 4 mother daughter couples \nBooking Details  \nTwin share $1350 per person \nhttps://www.imasoulqueen.com/themotherandthemaiden
URL:https://www.summerhouseretreat.com.au/retreat/new-retreat-coming-2/
LOCATION:summer House Retreat
ATTACH;FMTTYPE=image/jpeg:https://www.summerhouseretreat.com.au/wp-content/uploads/2025/07/new-moon-🌑-9-copy.jpg
ORGANIZER;CN="Carla%20Jenkins":MAILTO:masoulqueen@gmail.com
END:VEVENT
END:VCALENDAR