BEGIN:VCALENDAR
VERSION:2.0
PRODID:-//Summer House Retreat - ECPv5.11.0//NONSGML v1.0//EN
CALSCALE:GREGORIAN
METHOD:PUBLISH
X-WR-CALNAME:Summer House Retreat
X-ORIGINAL-URL:https://www.summerhouseretreat.com.au
X-WR-CALDESC:Events for Summer House Retreat
BEGIN:VTIMEZONE
TZID:Australia/Melbourne
BEGIN:STANDARD
TZOFFSETFROM:+1100
TZOFFSETTO:+1000
TZNAME:AEST
DTSTART:20260404T160000
END:STANDARD
BEGIN:DAYLIGHT
TZOFFSETFROM:+1000
TZOFFSETTO:+1100
TZNAME:AEDT
DTSTART:20261003T160000
END:DAYLIGHT
END:VTIMEZONE
BEGIN:VEVENT
DTSTART;TZID=Australia/Melbourne:20260123T100000
DTEND;TZID=Australia/Melbourne:20260126T130000
DTSTAMP:20260421T223055
CREATED:20250823T054848Z
LAST-MODIFIED:20260104T221809Z
UID:1699666-1769162400-1769432400@www.summerhouseretreat.com.au
SUMMARY:THE AWAKENING RETREAT - with the  Enlightened Minds Team (ONE SPOT AVAILABLE)
DESCRIPTION:THE AWAKENING RETREAT – with Adam\, Jess & Naisa from  Enlightened Minds\n23rd January – 26th January 2026\na 3 night – 4 day Immersive Retreat \n  \n“Enlightened Minds Breathwork presents a transformative 3-night awakening retreat. Unlock your unique blueprint to living with greater clarity\, connection and courage in 2026.“\n\n\n\nYour inclusions and experiences: \n\n\n\nWhat You’ll Experience: \n\n3 nights of elevated living in a beautiful share house overlooking the ocean\nSoul nourishing meals by our own personal chef\nCeremonial cacao opening ceremony\nDeep Yin Yoga\nBreathwork for release and renewal\nMediation\, hypnosis & visualisation\nMagnesium pool & cold plunge\nGrounding group nature hike\nDaily Journalling & reflection rituals\nAuthentic connection exercises\nPersonalised breathwork support\nBreathwork tools & educational resources\n2026 Vision Board Activation\nUnlimited organic teas\nTransport to and from airport to Torquay (if required)\nPre-retreat 1:1 connection call to set retreat goals\nPost retreat integration bundle and follow up calls\n\nBOOK PROCESS AND PRICING  \nTwin share\nRoom Price: $1\,695Deposit: $500 to secure your place\nCONTACT ADAM OR JESS – ENLIGHTENED MINDS – hello@enlightenedminds.com.au \nhttps://www.enlightenedminds.com.au/the-awakening-retreat
URL:https://www.summerhouseretreat.com.au/retreat/new-retreat-coming-in-2026/
LOCATION:summer House Retreat
ATTACH;FMTTYPE=image/jpeg:https://www.summerhouseretreat.com.au/wp-content/uploads/2025/08/Untitled-design-2025-09-14T083203.245-copy.jpg
ORGANIZER;CN="ENLIGHTENED%20MINDS":MAILTO:hello@enlightenedminds.com.aumailto:hello@enlightenedminds.com.au
END:VEVENT
END:VCALENDAR