BEGIN:VCALENDAR
VERSION:2.0
PRODID:-//Summer House Retreat - ECPv5.11.0//NONSGML v1.0//EN
CALSCALE:GREGORIAN
METHOD:PUBLISH
X-WR-CALNAME:Summer House Retreat
X-ORIGINAL-URL:https://www.summerhouseretreat.com.au
X-WR-CALDESC:Events for Summer House Retreat
BEGIN:VTIMEZONE
TZID:Australia/Melbourne
BEGIN:STANDARD
TZOFFSETFROM:+1100
TZOFFSETTO:+1000
TZNAME:AEST
DTSTART:20260404T160000
END:STANDARD
BEGIN:DAYLIGHT
TZOFFSETFROM:+1000
TZOFFSETTO:+1100
TZNAME:AEDT
DTSTART:20261003T160000
END:DAYLIGHT
BEGIN:STANDARD
TZOFFSETFROM:+1100
TZOFFSETTO:+1000
TZNAME:AEST
DTSTART:20270403T160000
END:STANDARD
BEGIN:DAYLIGHT
TZOFFSETFROM:+1000
TZOFFSETTO:+1100
TZNAME:AEDT
DTSTART:20271002T160000
END:DAYLIGHT
END:VTIMEZONE
BEGIN:VEVENT
DTSTART;TZID=Australia/Melbourne:20261120T140000
DTEND;TZID=Australia/Melbourne:20261122T140000
DTSTAMP:20260421T204837
CREATED:20251105T052324Z
LAST-MODIFIED:20260415T052956Z
UID:1699841-1795183200-1795356000@www.summerhouseretreat.com.au
SUMMARY:"SPRING AWAKENS NEW BEGINNINGS" - with Linda Franke and The Restful Yoga Team
DESCRIPTION:“SPRING AWAKENS NEW BEGINNINGS” – with Linda Franke and The Restful Yoga Team\nA Restorative Weekend  20th -22nd November 2026\n  \nAbout this Retreat \nJoin Linda Franke and be supported by the Restful Yoga Team \nHow do we find joy in each moment and let go of past thoughts\, doubts and fears. To fully embrace life and feel the life-force within each of us. \nWhen we get caught up in the challenges of daily life we miss the essence of being here. \nManaging these challenges is an art and there is a way to Peace and inner joy. \nThis weekend is about resting the mind\, discovering insights\, healing the nervous system through Restorative Yoga. \nPsychosomatic exercise to move stuck energy from early experiences and trauma that holds us back from living with optimal health. \nEnjoy amazing food\, Infrared Saunas and healing mineral pool. \nWalk in the National Forest\, \nMassages and Art therapy \nMake this a time to give back to yourself \nLet us take you on a journey to living with more Joy \nNumbers are limited so we can truly connect \nTo Register -Email \nLinda@restfulyogaandtherapy
URL:https://www.summerhouseretreat.com.au/retreat/new-retreat-coming-with-linda-franke/
LOCATION:summer House Retreat
ATTACH;FMTTYPE=image/jpeg:https://www.summerhouseretreat.com.au/wp-content/uploads/2024/04/Copy-of-Copy-of-Copy-of-Copy-of-Copy-of-Copy-of-Copy-of-Copy-of-Copy-of-Copy-of-Copy-of-Copy-of-Copy-of-Copy-of-Copy-of-Copy-of-Copy-of-Copy-of-Copy-of-Retreat-copy.jpg
ORGANIZER;CN="LINDA%20FRANKE":MAILTO:linda@restfulyogaandtherapy.com
END:VEVENT
BEGIN:VEVENT
DTSTART;TZID=Australia/Melbourne:20270319T080000
DTEND;TZID=Australia/Melbourne:20270321T130000
DTSTAMP:20260421T204837
CREATED:20260303T002937Z
LAST-MODIFIED:20260303T002943Z
UID:1699960-1805443200-1805634000@www.summerhouseretreat.com.au
SUMMARY:NEW RETREAT COMING SOON
DESCRIPTION:
URL:https://www.summerhouseretreat.com.au/retreat/new-retreat-coming-soon-7/
LOCATION:summer House Retreat
ATTACH;FMTTYPE=image/jpeg:https://www.summerhouseretreat.com.au/wp-content/uploads/2021/11/Untitled-design-2025-10-01T111453.376-copy.jpg
END:VEVENT
END:VCALENDAR